BEGIN:VCALENDAR
VERSION:2.0
PRODID:-//Ziyara Project - ECPv6.15.20//NONSGML v1.0//EN
CALSCALE:GREGORIAN
METHOD:PUBLISH
X-WR-CALNAME:Ziyara Project
X-ORIGINAL-URL:https://ziyara-project.com
X-WR-CALDESC:Évènements pour Ziyara Project
REFRESH-INTERVAL;VALUE=DURATION:PT1H
X-Robots-Tag:noindex
X-PUBLISHED-TTL:PT1H
BEGIN:VTIMEZONE
TZID:Europe/Paris
BEGIN:DAYLIGHT
TZOFFSETFROM:+0100
TZOFFSETTO:+0200
TZNAME:CEST
DTSTART:20230326T010000
END:DAYLIGHT
BEGIN:STANDARD
TZOFFSETFROM:+0200
TZOFFSETTO:+0100
TZNAME:CET
DTSTART:20231029T010000
END:STANDARD
BEGIN:DAYLIGHT
TZOFFSETFROM:+0100
TZOFFSETTO:+0200
TZNAME:CEST
DTSTART:20240331T010000
END:DAYLIGHT
BEGIN:STANDARD
TZOFFSETFROM:+0200
TZOFFSETTO:+0100
TZNAME:CET
DTSTART:20241027T010000
END:STANDARD
BEGIN:DAYLIGHT
TZOFFSETFROM:+0100
TZOFFSETTO:+0200
TZNAME:CEST
DTSTART:20250330T010000
END:DAYLIGHT
BEGIN:STANDARD
TZOFFSETFROM:+0200
TZOFFSETTO:+0100
TZNAME:CET
DTSTART:20251026T010000
END:STANDARD
BEGIN:DAYLIGHT
TZOFFSETFROM:+0100
TZOFFSETTO:+0200
TZNAME:CEST
DTSTART:20260329T010000
END:DAYLIGHT
BEGIN:STANDARD
TZOFFSETFROM:+0200
TZOFFSETTO:+0100
TZNAME:CET
DTSTART:20261025T010000
END:STANDARD
END:VTIMEZONE
BEGIN:VEVENT
DTSTART;TZID=Europe/Paris:20240518T130000
DTEND;TZID=Europe/Paris:20250427T200000
DTSTAMP:20260420T061220
CREATED:20240728T211614Z
LAST-MODIFIED:20240728T211614Z
UID:1729-1716037200-1745784000@ziyara-project.com
SUMMARY:Visite d'une patiente à Montigny-le-Roi
DESCRIPTION:Quelques informations : Cette patiente\, au cours d’une visite d’une de nos bénévoles à l’une de nos patientes habituelles\, a été touchée par la démarche et a demandé à être\, elle aussi\, visitée afin d’être soutenue lors de son hospitalisation en région parisienne. \nDésormais en EPHAD en province\, cette octogénaire se sent très seule et aurait besoin de la présence de bénévoles qui viendraient égayer un peu son quotidien. \nCe qu’elle aime : Notre patiente est très gourmande et raffole particulièrement du chocolat ! \nNombre de bénévoles souhaités : à déterminer. \nMerci de nous contacter afin de vérifier que des places sont toujours disponibles et avoir plus d’information sur la visite.
URL:https://ziyara-project.com/visite/visite-dune-patiente-a-montigny-le-roi/
LOCATION:Montigny le Roi\, 52140
ATTACH;FMTTYPE=image/png:https://ziyara-project.com/wp-content/uploads/2024/02/logo-ziyara-project-saumon-transparent.png
ORGANIZER;CN="Ziyara Project":MAILTO:ziyaraproject@gmail.com
END:VEVENT
END:VCALENDAR