BEGIN:VCALENDAR
VERSION:2.0
PRODID:-//Ziyara Project - ECPv6.15.20//NONSGML v1.0//EN
CALSCALE:GREGORIAN
METHOD:PUBLISH
X-WR-CALNAME:Ziyara Project
X-ORIGINAL-URL:https://ziyara-project.com
X-WR-CALDESC:Évènements pour Ziyara Project
REFRESH-INTERVAL;VALUE=DURATION:PT1H
X-Robots-Tag:noindex
X-PUBLISHED-TTL:PT1H
BEGIN:VTIMEZONE
TZID:Europe/Paris
BEGIN:DAYLIGHT
TZOFFSETFROM:+0100
TZOFFSETTO:+0200
TZNAME:CEST
DTSTART:20240331T010000
END:DAYLIGHT
BEGIN:STANDARD
TZOFFSETFROM:+0200
TZOFFSETTO:+0100
TZNAME:CET
DTSTART:20241027T010000
END:STANDARD
BEGIN:DAYLIGHT
TZOFFSETFROM:+0100
TZOFFSETTO:+0200
TZNAME:CEST
DTSTART:20250330T010000
END:DAYLIGHT
BEGIN:STANDARD
TZOFFSETFROM:+0200
TZOFFSETTO:+0100
TZNAME:CET
DTSTART:20251026T010000
END:STANDARD
BEGIN:DAYLIGHT
TZOFFSETFROM:+0100
TZOFFSETTO:+0200
TZNAME:CEST
DTSTART:20260329T010000
END:DAYLIGHT
BEGIN:STANDARD
TZOFFSETFROM:+0200
TZOFFSETTO:+0100
TZNAME:CET
DTSTART:20261025T010000
END:STANDARD
BEGIN:DAYLIGHT
TZOFFSETFROM:+0100
TZOFFSETTO:+0200
TZNAME:CEST
DTSTART:20270328T010000
END:DAYLIGHT
BEGIN:STANDARD
TZOFFSETFROM:+0200
TZOFFSETTO:+0100
TZNAME:CET
DTSTART:20271031T010000
END:STANDARD
BEGIN:DAYLIGHT
TZOFFSETFROM:+0100
TZOFFSETTO:+0200
TZNAME:CEST
DTSTART:20280326T010000
END:DAYLIGHT
BEGIN:STANDARD
TZOFFSETFROM:+0200
TZOFFSETTO:+0100
TZNAME:CET
DTSTART:20281029T010000
END:STANDARD
END:VTIMEZONE
BEGIN:VEVENT
DTSTART;TZID=Europe/Paris:20251222T080000
DTEND;TZID=Europe/Paris:20270412T170000
DTSTAMP:20260424T034924
CREATED:20251222T064506Z
LAST-MODIFIED:20251222T064726Z
UID:3364-1766390400-1807549200@ziyara-project.com
SUMMARY:Visite d'un patient à Plaisir
DESCRIPTION:Notre patient est âgé de la trentaine et est atteint de bipolarité\, de dépression et de troubles de panique. \nIl souffre énormément de cette situation. \nDe nature sociable\, il aimerait faire la rencontre de frères bénévoles pour l’aider à surmonter ses difficultés et le soutenir dans son combat contre la maladie sans être jugé : discuter\, sortir se balader\, échanger autour du dine\, faire des activités en extérieur etc… \nSi vous êtes dans le secteur de Plaisir\, n’hésitez pas à lui rendre visite. \nVotre présence peut faire la différence dans la convalescence ! \nSi vous êtes déjà bénévole chez Ziyara Project\, obtenez les coordonnées directement en vous inscrivant sur l’application mobile!\nSinon\, rendez-vous sur ziyara-project.com/contact \n 
URL:https://ziyara-project.com/visite/visite-dun-patient-a-plaisir/
LOCATION:Plaisir\, 78000
ATTACH;FMTTYPE=image/png:https://ziyara-project.com/wp-content/uploads/2023/04/logo-ziyara-project-bleu-transparent.png
ORGANIZER;CN="Ziyara Project":MAILTO:ziyaraproject@gmail.com
END:VEVENT
END:VCALENDAR