BEGIN:VCALENDAR
VERSION:2.0
PRODID:-//Ziyara Project - ECPv6.15.20//NONSGML v1.0//EN
CALSCALE:GREGORIAN
METHOD:PUBLISH
X-ORIGINAL-URL:https://ziyara-project.com
X-WR-CALDESC:Évènements pour Ziyara Project
REFRESH-INTERVAL;VALUE=DURATION:PT1H
X-Robots-Tag:noindex
X-PUBLISHED-TTL:PT1H
BEGIN:VTIMEZONE
TZID:Europe/Paris
BEGIN:DAYLIGHT
TZOFFSETFROM:+0100
TZOFFSETTO:+0200
TZNAME:CEST
DTSTART:20230326T010000
END:DAYLIGHT
BEGIN:STANDARD
TZOFFSETFROM:+0200
TZOFFSETTO:+0100
TZNAME:CET
DTSTART:20231029T010000
END:STANDARD
BEGIN:DAYLIGHT
TZOFFSETFROM:+0100
TZOFFSETTO:+0200
TZNAME:CEST
DTSTART:20240331T010000
END:DAYLIGHT
BEGIN:STANDARD
TZOFFSETFROM:+0200
TZOFFSETTO:+0100
TZNAME:CET
DTSTART:20241027T010000
END:STANDARD
BEGIN:DAYLIGHT
TZOFFSETFROM:+0100
TZOFFSETTO:+0200
TZNAME:CEST
DTSTART:20250330T010000
END:DAYLIGHT
BEGIN:STANDARD
TZOFFSETFROM:+0200
TZOFFSETTO:+0100
TZNAME:CET
DTSTART:20251026T010000
END:STANDARD
BEGIN:DAYLIGHT
TZOFFSETFROM:+0100
TZOFFSETTO:+0200
TZNAME:CEST
DTSTART:20260329T010000
END:DAYLIGHT
BEGIN:STANDARD
TZOFFSETFROM:+0200
TZOFFSETTO:+0100
TZNAME:CET
DTSTART:20261025T010000
END:STANDARD
BEGIN:DAYLIGHT
TZOFFSETFROM:+0100
TZOFFSETTO:+0200
TZNAME:CEST
DTSTART:20270328T010000
END:DAYLIGHT
BEGIN:STANDARD
TZOFFSETFROM:+0200
TZOFFSETTO:+0100
TZNAME:CET
DTSTART:20271031T010000
END:STANDARD
END:VTIMEZONE
BEGIN:VEVENT
DTSTART;TZID=Europe/Paris:20240518T130000
DTEND;TZID=Europe/Paris:20260401T200000
DTSTAMP:20260423T101518
CREATED:20240730T184735Z
LAST-MODIFIED:20240730T184735Z
UID:1747-1716037200-1775073600@ziyara-project.com
SUMMARY:Visite d'une patiente à Villepinte
DESCRIPTION:Quelques informations : Notre patiente âgée de 73 ans se sent seule depuis le décès de son mari. De nature très joyeuse\, elle est malheureusement contrainte de rester seule et souffre de maux de jambe. \nElle souhaiterait recevoir la visite de bénévoles afin de lui tenir compagnie et lui permettre de se balader de temps en temps pour se changer les idées. \nNombre de bénévoles souhaités : à déterminer. \nMerci de nous contacter afin de vérifier que des places sont toujours disponibles et avoir plus d’information sur la visite.
URL:https://ziyara-project.com/visite/visite-dune-patiente-a-villepinte/
LOCATION:Villepinte\, 93420
ATTACH;FMTTYPE=image/png:https://ziyara-project.com/wp-content/uploads/2024/02/logo-ziyara-project-saumon-transparent.png
ORGANIZER;CN="Ziyara Project":MAILTO:ziyaraproject@gmail.com
END:VEVENT
END:VCALENDAR